BEGIN:VCALENDAR
VERSION:2.0
PRODID:-//wp-events-plugin.com//7.2.3.1//EN
TZID:Europe/Amsterdam
X-WR-TIMEZONE:Europe/Amsterdam
BEGIN:VEVENT
UID:1701@worldglaucomaweek.org
DTSTART;TZID=Europe/Amsterdam:20180312T080000
DTEND;TZID=Europe/Amsterdam:20180313T160000
DTSTAMP:20180220T221058Z
URL:https://www.worldglaucomaweek.org/activity/enlightenment/
SUMMARY:Enlightenment
DESCRIPTION:
CATEGORIES:Media coverage
LOCATION:University of benin teaching hospital\, Ugbowo\, Benin\, Edo\, Nig
 eria
GEO:6.3930948;5.619511200000034
X-APPLE-STRUCTURED-LOCATION;VALUE=URI;X-ADDRESS=Ugbowo\, Benin\, Edo\, Nige
 ria;X-APPLE-RADIUS=100;X-TITLE=University of benin teaching hospital:geo:6
 .3930948,5.619511200000034
END:VEVENT
BEGIN:VTIMEZONE
TZID:Europe/Amsterdam
X-LIC-LOCATION:Europe/Amsterdam
BEGIN:STANDARD
DTSTART:20171029T020000
TZOFFSETFROM:+0200
TZOFFSETTO:+0100
TZNAME:CET
END:STANDARD
END:VTIMEZONE
END:VCALENDAR