BEGIN:VCALENDAR
VERSION:2.0
PRODID:-//wp-events-plugin.com//7.2.3.1//EN
TZID:Europe/Amsterdam
X-WR-TIMEZONE:Europe/Amsterdam
BEGIN:VEVENT
UID:2953@worldglaucomaweek.org
DTSTART;TZID=Europe/Amsterdam:20190313T100000
DTEND;TZID=Europe/Amsterdam:20190313T100000
DTSTAMP:20190315T103821Z
URL:https://www.worldglaucomaweek.org/activity/enlightenment-and-screening
 -events/
SUMMARY:Enlightenment and screening events
DESCRIPTION:Public enlightenment lecture to all staff of University of Beni
 n and the University of Benin Teaching Hospital.\n\nSpeaker Prof. O.T. Ede
 ma
ATTACH;FMTTYPE=image/jpeg:https://www.worldglaucomaweek.org/wp-content/upl
 oads/2019/03/IMG-20190312-WA0019.jpg
CATEGORIES:Public educational
LOCATION:Akin Deko Hall. University of Benin\, Ugbowo\, Benin City \, Edo\,
  300001\, Nigeria
GEO:6.3930948;5.619511200000034
X-APPLE-STRUCTURED-LOCATION;VALUE=URI;X-ADDRESS=Ugbowo\, Benin City \, Edo\
 , 300001\, Nigeria;X-APPLE-RADIUS=100;X-TITLE=Akin Deko Hall. University o
 f Benin:geo:6.3930948,5.619511200000034
END:VEVENT
BEGIN:VTIMEZONE
TZID:Europe/Amsterdam
X-LIC-LOCATION:Europe/Amsterdam
BEGIN:STANDARD
DTSTART:20181028T020000
TZOFFSETFROM:+0200
TZOFFSETTO:+0100
TZNAME:CET
END:STANDARD
END:VTIMEZONE
END:VCALENDAR