BEGIN:VCALENDAR
VERSION:2.0
PRODID:-//wp-events-plugin.com//7.2.3.1//EN
TZID:Europe/Amsterdam
X-WR-TIMEZONE:Europe/Amsterdam
BEGIN:VEVENT
UID:1795@worldglaucomaweek.org
DTSTART;TZID=Europe/Amsterdam:20180317T110000
DTEND;TZID=Europe/Amsterdam:20180317T133000
DTSTAMP:20180302T181523Z
URL:https://www.worldglaucomaweek.org/activity/encuentro-sobre-glaucoma-en
 -madrid/
SUMMARY:ENCUENTRO SOBRE GLAUCOMA EN MADRID
DESCRIPTION:Cartel CaixaForum SMG 2018
CATEGORIES:Public educational
LOCATION:Caixa Forum Madrid\, Paseo del Prado 36\, Madrid\, Spain
GEO:40.41096;-3.693019999999933
X-APPLE-STRUCTURED-LOCATION;VALUE=URI;X-ADDRESS=Paseo del Prado 36\, Madrid
 \, Spain;X-APPLE-RADIUS=100;X-TITLE=Caixa Forum Madrid:geo:40.41096,-3.693
 019999999933
END:VEVENT
BEGIN:VTIMEZONE
TZID:Europe/Amsterdam
X-LIC-LOCATION:Europe/Amsterdam
BEGIN:STANDARD
DTSTART:20171029T020000
TZOFFSETFROM:+0200
TZOFFSETTO:+0100
TZNAME:CET
END:STANDARD
END:VTIMEZONE
END:VCALENDAR