BEGIN:VCALENDAR
VERSION:2.0
PRODID:-//wp-events-plugin.com//7.2.3.1//EN
TZID:Europe/Amsterdam
X-WR-TIMEZONE:Europe/Amsterdam
BEGIN:VEVENT
UID:1687@worldglaucomaweek.org
DTSTART;TZID=Europe/Amsterdam;VALUE=DATE:20180311
DTEND;TZID=Europe/Amsterdam;VALUE=DATE:20180318
DTSTAMP:20180305T072242Z
URL:https://www.worldglaucomaweek.org/activity/electronic-billboard/
SUMMARY:Electronic billboard
DESCRIPTION:
CATEGORIES:Public educational
LOCATION:Makati\, Arnaiz Ave corner Edades Street\, Makati\, Philippines
GEO:14.5509781;121.01911100000007
X-APPLE-STRUCTURED-LOCATION;VALUE=URI;X-ADDRESS=Arnaiz Ave corner Edades St
 reet\, Makati\, Philippines;X-APPLE-RADIUS=100;X-TITLE=Makati:geo:14.55097
 81,121.01911100000007
END:VEVENT
BEGIN:VTIMEZONE
TZID:Europe/Amsterdam
X-LIC-LOCATION:Europe/Amsterdam
BEGIN:STANDARD
DTSTART:20171029T020000
TZOFFSETFROM:+0200
TZOFFSETTO:+0100
TZNAME:CET
END:STANDARD
END:VTIMEZONE
END:VCALENDAR