BEGIN:VCALENDAR
VERSION:2.0
PRODID:-//wp-events-plugin.com//7.2.3.1//EN
TZID:Europe/Amsterdam
X-WR-TIMEZONE:Europe/Amsterdam
BEGIN:VEVENT
UID:2054@worldglaucomaweek.org
DTSTART;TZID=Europe/Amsterdam:20180313T090000
DTEND;TZID=Europe/Amsterdam:20180313T100000
DTSTAMP:20180317T111624Z
URL:https://www.worldglaucomaweek.org/activity/educational-event-7/
SUMMARY:Educational event
DESCRIPTION:https://www.youtube.com/watch?v=yUFAjCMJeT8\n\nhttps://www.yout
 ube.com/watch?v=Jtg5V5vK1ME\n\nhttps://www.youtube.com/watch?v=-Sm_2tdE-po
 \n\nhttps://www.youtube.com/watch?v=1_F4IF6L02g\n\nhttps://www.youtube.com
 /watch?v=vmaNeeZx47Q\n\nhttp://www.idreamradio.id\n\nEducational event in 
 the radio. i-dream radio\n\nThe website: www.idreamradio.id
ATTACH;FMTTYPE=image/jpeg:https://www.worldglaucomaweek.org/wp-content/upl
 oads/2018/03/wgw-idream-2.jpg
CATEGORIES:Media coverage
END:VEVENT
BEGIN:VTIMEZONE
TZID:Europe/Amsterdam
X-LIC-LOCATION:Europe/Amsterdam
BEGIN:STANDARD
DTSTART:20171029T020000
TZOFFSETFROM:+0200
TZOFFSETTO:+0100
TZNAME:CET
END:STANDARD
END:VTIMEZONE
END:VCALENDAR