BEGIN:VCALENDAR
VERSION:2.0
PRODID:-//wp-events-plugin.com//7.2.3.1//EN
TZID:Europe/Amsterdam
X-WR-TIMEZONE:Europe/Amsterdam
BEGIN:VEVENT
UID:1943@worldglaucomaweek.org
DTSTART;TZID=Europe/Amsterdam:20180311T000000
DTEND;TZID=Europe/Amsterdam:20180317T000000
DTSTAMP:20180307T184111Z
URL:https://www.worldglaucomaweek.org/activity/educational-22/
SUMMARY:educational
DESCRIPTION:
CATEGORIES:Media coverage
LOCATION:General hospital Virovitica\, Ljudevita Gaja 21\, Virovitica\, Cro
 atia\, Croatia
GEO:45.8286749;17.388451300000042
X-APPLE-STRUCTURED-LOCATION;VALUE=URI;X-ADDRESS=Ljudevita Gaja 21\, Virovit
 ica\, Croatia\, Croatia;X-APPLE-RADIUS=100;X-TITLE=General hospital Virovi
 tica:geo:45.8286749,17.388451300000042
END:VEVENT
BEGIN:VTIMEZONE
TZID:Europe/Amsterdam
X-LIC-LOCATION:Europe/Amsterdam
BEGIN:STANDARD
DTSTART:20171029T020000
TZOFFSETFROM:+0200
TZOFFSETTO:+0100
TZNAME:CET
END:STANDARD
END:VTIMEZONE
END:VCALENDAR