BEGIN:VCALENDAR
VERSION:2.0
PRODID:-//wp-events-plugin.com//7.2.3.1//EN
TZID:Europe/Amsterdam
X-WR-TIMEZONE:Europe/Amsterdam
BEGIN:VEVENT
UID:1931@worldglaucomaweek.org
DTSTART;TZID=Europe/Amsterdam;VALUE=DATE:20180311
DTEND;TZID=Europe/Amsterdam;VALUE=DATE:20180318
DTSTAMP:20180307T181921Z
URL:https://www.worldglaucomaweek.org/activity/educational-10/
SUMMARY:educational
DESCRIPTION:
CATEGORIES:Public educational
LOCATION:Sisak General Hospital\, Ul. Josipa Jurja Strossmayera 59\, Sisak\
 , Croatia
GEO:45.4757015;16.368127200000004
X-APPLE-STRUCTURED-LOCATION;VALUE=URI;X-ADDRESS=Ul. Josipa Jurja Strossmaye
 ra 59\, Sisak\, Croatia;X-APPLE-RADIUS=100;X-TITLE=Sisak General Hospital:
 geo:45.4757015,16.368127200000004
END:VEVENT
BEGIN:VTIMEZONE
TZID:Europe/Amsterdam
X-LIC-LOCATION:Europe/Amsterdam
BEGIN:STANDARD
DTSTART:20171029T020000
TZOFFSETFROM:+0200
TZOFFSETTO:+0100
TZNAME:CET
END:STANDARD
END:VTIMEZONE
END:VCALENDAR