BEGIN:VCALENDAR
VERSION:2.0
PRODID:-//wp-events-plugin.com//7.2.3.1//EN
TZID:Europe/Amsterdam
X-WR-TIMEZONE:Europe/Amsterdam
BEGIN:VEVENT
UID:2328@worldglaucomaweek.org
DTSTART;TZID=Europe/Amsterdam:20190316T120000
DTEND;TZID=Europe/Amsterdam:20190316T160000
DTSTAMP:20190302T010739Z
URL:https://www.worldglaucomaweek.org/activity/education-for-glaucoma-prev
 ention-dream-bigger/
SUMMARY:Education for Glaucoma Prevention: Dream Bigger!
DESCRIPTION:This year we set up the educational activities for glaucoma pre
 vention by giving lecture\, poster presentation\, and PR via all social me
 dia. Five glaucoma articles written by Nuttamon Srisamran\, MD will be pos
 ted on Phyathai 1 Hospital FB for online education prior to the lecture as
  follows:\n\n1. Glaucoma\n\n2. Childhood glaucoma\n\n3. Microinvasive glau
 coma surgery (MIGS): Part I\n\n4.Microinvasive glaucoma surgery (MIGS): Pa
 rt II\n\n5. Marijuana and glaucoma treatment\n\nOn Mar 16\, 2019\, the gla
 ucoma lecture will be delivered to the public at the hospital together wit
 h Q &amp\; A session for the audiences. Please follow us on\nFB: Phyathai1
  Hospital\nIG: phyathai1_hospital\n\nLine: @phyathai1hospital\n\nThank you
 !\n\n&nbsp\;
ATTACH;FMTTYPE=image/jpeg:https://www.worldglaucomaweek.org/wp-content/upl
 oads/2019/02/EB2A4B35-D543-4893-8601-31C94412F72C.jpeg
CATEGORIES:Public educational
LOCATION:Phyathai 1 Hospital\, 364/1  Si Ayutthaya Road\, Bangkok\, Ratchat
 hewi\, 10400\, Thailand
GEO:13.7561718;100.5392359
X-APPLE-STRUCTURED-LOCATION;VALUE=URI;X-ADDRESS=364/1  Si Ayutthaya Road\, 
 Bangkok\, Ratchathewi\, 10400\, Thailand;X-APPLE-RADIUS=100;X-TITLE=Phyath
 ai 1 Hospital:geo:13.7561718,100.5392359
END:VEVENT
BEGIN:VTIMEZONE
TZID:Europe/Amsterdam
X-LIC-LOCATION:Europe/Amsterdam
BEGIN:STANDARD
DTSTART:20181028T020000
TZOFFSETFROM:+0200
TZOFFSETTO:+0100
TZNAME:CET
END:STANDARD
END:VTIMEZONE
END:VCALENDAR