BEGIN:VCALENDAR
VERSION:2.0
PRODID:-//wp-events-plugin.com//7.2.3.1//EN
TZID:Europe/Amsterdam
X-WR-TIMEZONE:Europe/Amsterdam
BEGIN:VEVENT
UID:45@worldglaucomaweek.org
DTSTART;TZID=Europe/Amsterdam:20150310T170000
DTEND;TZID=Europe/Amsterdam:20150310T190000
DTSTAMP:20150214T164805Z
URL:https://www.worldglaucomaweek.org/activity/education-event-2/
SUMMARY:Education event
DESCRIPTION:Education lecture for public
CATEGORIES:Public educational
LOCATION:Clinical hospital center Osijek\,  Josipa Huttlera 4. \, Osijek\, 
 Croatia\, Croatia
GEO:45.5576607;18.714937700000064
X-APPLE-STRUCTURED-LOCATION;VALUE=URI;X-ADDRESS= Josipa Huttlera 4. \, Osij
 ek\, Croatia\, Croatia;X-APPLE-RADIUS=100;X-TITLE=Clinical hospital center
  Osijek:geo:45.5576607,18.714937700000064
END:VEVENT
BEGIN:VTIMEZONE
TZID:Europe/Amsterdam
X-LIC-LOCATION:Europe/Amsterdam
BEGIN:STANDARD
DTSTART:20141026T020000
TZOFFSETFROM:+0200
TZOFFSETTO:+0100
TZNAME:CET
END:STANDARD
END:VTIMEZONE
END:VCALENDAR