BEGIN:VCALENDAR
VERSION:2.0
PRODID:-//wp-events-plugin.com//7.2.3.1//EN
TZID:Europe/Amsterdam
X-WR-TIMEZONE:Europe/Amsterdam
BEGIN:VEVENT
UID:1993@worldglaucomaweek.org
DTSTART;TZID=Europe/Amsterdam:20180312T000000
DTEND;TZID=Europe/Amsterdam:20180317T000000
DTSTAMP:20180309T103333Z
URL:https://www.worldglaucomaweek.org/activity/dzrh-666-khz-interview-with
 -glaucoma-specialist/
SUMMARY:DZRH 666 kHz Interview with Glaucoma Specialist
DESCRIPTION:Interview schedule:\n\nMarch 12\, 2:30 PM - Dr. Jovell Peregrin
 o\n\nMarch 13\, 2:30 PM - Dr. Raquel Quino\n\nMarch 17\, 2:30 PM - Dr. Jus
 to Manuel Orros\, Jr.
CATEGORIES:Media coverage
LOCATION:Nationwide Broadcast\, Calicoan\, Guian\, Eastern Samar\, Philippi
 nes
GEO:11.0146554;125.7788971
X-APPLE-STRUCTURED-LOCATION;VALUE=URI;X-ADDRESS=Calicoan\, Guian\, Eastern 
 Samar\, Philippines;X-APPLE-RADIUS=100;X-TITLE=Nationwide Broadcast:geo:11
 .0146554,125.7788971
END:VEVENT
BEGIN:VTIMEZONE
TZID:Europe/Amsterdam
X-LIC-LOCATION:Europe/Amsterdam
BEGIN:STANDARD
DTSTART:20171029T020000
TZOFFSETFROM:+0200
TZOFFSETTO:+0100
TZNAME:CET
END:STANDARD
END:VTIMEZONE
END:VCALENDAR