BEGIN:VCALENDAR
VERSION:2.0
PRODID:-//wp-events-plugin.com//7.2.3.1//EN
TZID:Europe/Amsterdam
X-WR-TIMEZONE:Europe/Amsterdam
BEGIN:VEVENT
UID:2253@worldglaucomaweek.org
DTSTART;TZID=Europe/Amsterdam:20180313T000000
DTEND;TZID=Europe/Amsterdam:20180313T000000
DTSTAMP:20180316T160030Z
URL:https://www.worldglaucomaweek.org/activity/drop-technique/
SUMMARY:Drop Technique
DESCRIPTION:
CATEGORIES:Public educational
LOCATION:Ankavilla Building\, #8 Endeavour Road\, Chaguanas\, Trinidad and 
 Tobago
GEO:10.515838;-61.40919789999998
X-APPLE-STRUCTURED-LOCATION;VALUE=URI;X-ADDRESS=#8 Endeavour Road\, Chaguan
 as\, Trinidad and Tobago;X-APPLE-RADIUS=100;X-TITLE=Ankavilla Building:geo
 :10.515838,-61.40919789999998
END:VEVENT
BEGIN:VTIMEZONE
TZID:Europe/Amsterdam
X-LIC-LOCATION:Europe/Amsterdam
BEGIN:STANDARD
DTSTART:20171029T020000
TZOFFSETFROM:+0200
TZOFFSETTO:+0100
TZNAME:CET
END:STANDARD
END:VTIMEZONE
END:VCALENDAR