BEGIN:VCALENDAR
VERSION:2.0
PRODID:-//wp-events-plugin.com//7.2.3.1//EN
TZID:Europe/Amsterdam
X-WR-TIMEZONE:Europe/Amsterdam
BEGIN:VEVENT
UID:1516@worldglaucomaweek.org
DTSTART;TZID=Europe/Amsterdam:20180312T090000
DTEND;TZID=Europe/Amsterdam:20180312T140000
DTSTAMP:20180310T025846Z
URL:https://www.worldglaucomaweek.org/activity/distribuicao-de-folder/
SUMMARY:ABRAG Distribuição de Folder
DESCRIPTION:Distribuição de pasta informativa em diversos bairros do Rio 
 de Janeiro.
ATTACH;FMTTYPE=image/jpeg:https://www.worldglaucomaweek.org/wp-content/upl
 oads/2018/01/ABRAG-INT-SMALL-1.jpg
CATEGORIES:Public educational
LOCATION:Copacabana\, Ipanema\, Barra da Tijuca\, Rocinha\, Central do Bras
 il...among others)\, Copacabana\, Ipanema\, Barra da Tijuca\, Rocinha\, Ce
 ntral do Brasil...among others)\, Rio de Janeiro\, RJ\, Brazil
GEO:-22.9068467;-43.17289649999998
X-APPLE-STRUCTURED-LOCATION;VALUE=URI;X-ADDRESS=Copacabana\, Ipanema\, Barr
 a da Tijuca\, Rocinha\, Central do Brasil...among others)\, Rio de Janeiro
 \, RJ\, Brazil;X-APPLE-RADIUS=100;X-TITLE=Copacabana\, Ipanema\, Barra da 
 Tijuca\, Rocinha\, Central do Brasil...among others):geo:-22.9068467,-43.1
 7289649999998
END:VEVENT
BEGIN:VTIMEZONE
TZID:Europe/Amsterdam
X-LIC-LOCATION:Europe/Amsterdam
BEGIN:STANDARD
DTSTART:20171029T020000
TZOFFSETFROM:+0200
TZOFFSETTO:+0100
TZNAME:CET
END:STANDARD
END:VTIMEZONE
END:VCALENDAR