BEGIN:VCALENDAR
VERSION:2.0
PRODID:-//wp-events-plugin.com//7.2.3.1//EN
TZID:Europe/Amsterdam
X-WR-TIMEZONE:Europe/Amsterdam
BEGIN:VEVENT
UID:1793@worldglaucomaweek.org
DTSTART;TZID=Europe/Amsterdam:20180314T080000
DTEND;TZID=Europe/Amsterdam:20180315T150000
DTSTAMP:20180302T110720Z
URL:https://www.worldglaucomaweek.org/activity/dissemination-of-informatio
 n-and-promotion-of-glaucoma-awareness/
SUMMARY:Dissemination of Information and Promotion of Glaucoma Awareness
DESCRIPTION:
CATEGORIES:Public educational
LOCATION:Newton Place Surgery\, Newton Road\, Faversham\, Kent\, ME13 8FH\,
  SOUTH EAST ENGLAND\, United Kingdom
GEO:51.3134692;0.8923585999999659
X-APPLE-STRUCTURED-LOCATION;VALUE=URI;X-ADDRESS=Newton Road\, Faversham\, K
 ent\, ME13 8FH\, SOUTH EAST ENGLAND\, United Kingdom;X-APPLE-RADIUS=100;X-
 TITLE=Newton Place Surgery:geo:51.3134692,0.8923585999999659
END:VEVENT
BEGIN:VTIMEZONE
TZID:Europe/Amsterdam
X-LIC-LOCATION:Europe/Amsterdam
BEGIN:STANDARD
DTSTART:20171029T020000
TZOFFSETFROM:+0200
TZOFFSETTO:+0100
TZNAME:CET
END:STANDARD
END:VTIMEZONE
END:VCALENDAR