BEGIN:VCALENDAR
VERSION:2.0
PRODID:-//wp-events-plugin.com//7.2.3.1//EN
TZID:Europe/Amsterdam
X-WR-TIMEZONE:Europe/Amsterdam
BEGIN:VEVENT
UID:19218@worldglaucomaweek.org
DTSTART;TZID=Asia/Manila:20250304T100000
DTEND;TZID=Asia/Manila:20250331T180000
DTSTAMP:20250311T094737Z
URL:https://www.worldglaucomaweek.org/activity/discounted-glaucoma-diagnos
 tic-rates/
SUMMARY:Discounted glaucoma diagnostic rates
DESCRIPTION:For the whole month of March\, Perfect sight offers discounted 
 glaucoma diagnostic rates for Perimetry\, OCT\, Sisc photos and Pachymetry
  to increase awareness and to be able to provide glaucoma screening at a l
 esser expense to patients.
CATEGORIES:Screening event
LOCATION:PerfectSight EyeCenter\, 3/F\, Unit 306-308\, North Link building\
 , SM City North Edsa\, Quezon City\, Metro Manila\, 1100\, Philippines
X-APPLE-STRUCTURED-LOCATION;VALUE=URI;X-ADDRESS=3/F\, Unit 306-308\, North 
 Link building\, SM City North Edsa\, Quezon City\, Metro Manila\, 1100\, P
 hilippines;X-APPLE-RADIUS=100;X-TITLE=PerfectSight EyeCenter:geo:0,0
END:VEVENT
BEGIN:VTIMEZONE
TZID:Asia/Manila
X-LIC-LOCATION:Asia/Manila
BEGIN:STANDARD
DTSTART:20240304T100000
TZOFFSETFROM:+0800
TZOFFSETTO:+0800
TZNAME:PST
END:STANDARD
END:VTIMEZONE
END:VCALENDAR