BEGIN:VCALENDAR
VERSION:2.0
PRODID:-//wp-events-plugin.com//7.2.3.1//EN
TZID:Europe/Amsterdam
X-WR-TIMEZONE:Europe/Amsterdam
BEGIN:VEVENT
UID:2581@worldglaucomaweek.org
DTSTART;TZID=Europe/Amsterdam;VALUE=DATE:20190301
DTEND;TZID=Europe/Amsterdam;VALUE=DATE:20190401
DTSTAMP:20190301T013247Z
URL:https://www.worldglaucomaweek.org/activity/digital-signage/
SUMMARY:Digital Signage
DESCRIPTION:
CATEGORIES:Awareness
LOCATION:Shinagawa station: J・AD vision\, 26-27\, Takanawa 3\, Minato-ku\
 , Tokyo\, Japan\, Japan
GEO:35.6284713;139.73875969999995
X-APPLE-STRUCTURED-LOCATION;VALUE=URI;X-ADDRESS=26-27\, Takanawa 3\, Minato
 -ku\, Tokyo\, Japan\, Japan;X-APPLE-RADIUS=100;X-TITLE=Shinagawa station: 
 J・AD vision:geo:35.6284713,139.73875969999995
END:VEVENT
BEGIN:VTIMEZONE
TZID:Europe/Amsterdam
X-LIC-LOCATION:Europe/Amsterdam
BEGIN:STANDARD
DTSTART:20181028T020000
TZOFFSETFROM:+0200
TZOFFSETTO:+0100
TZNAME:CET
END:STANDARD
BEGIN:DAYLIGHT
DTSTART:20190331T030000
TZOFFSETFROM:+0100
TZOFFSETTO:+0200
TZNAME:CEST
END:DAYLIGHT
END:VTIMEZONE
END:VCALENDAR