BEGIN:VCALENDAR
VERSION:2.0
PRODID:-//wp-events-plugin.com//7.2.3.1//EN
TZID:Europe/Amsterdam
X-WR-TIMEZONE:Europe/Amsterdam
BEGIN:VEVENT
UID:2267@worldglaucomaweek.org
DTSTART;TZID=Europe/Amsterdam:20180323T080000
DTEND;TZID=Europe/Amsterdam:20180323T140000
DTSTAMP:20180317T165237Z
URL:https://www.worldglaucomaweek.org/activity/diabetic-glaucoma-screening
 /
SUMMARY:Glaucoma &amp\; Diabetic Screening Day
DESCRIPTION:\nhttps://www.worldglaucomaweek.org/wp-content/uploads/2018/03/
 Screening-Day-HD-1080p-SD-for-Apple-Devices.m4v
CATEGORIES:Screening event
LOCATION:The Eye Centre\, 16 St James Road\, Southernwood\, East London\, 5
 201\, South Africa\, South Africa
GEO:-33.002086;27.897301999999968
X-APPLE-STRUCTURED-LOCATION;VALUE=URI;X-ADDRESS=16 St James Road\, Southern
 wood\, East London\, 5201\, South Africa\, South Africa;X-APPLE-RADIUS=100
 ;X-TITLE=The Eye Centre:geo:-33.002086,27.897301999999968
END:VEVENT
BEGIN:VTIMEZONE
TZID:Europe/Amsterdam
X-LIC-LOCATION:Europe/Amsterdam
BEGIN:STANDARD
DTSTART:20171029T020000
TZOFFSETFROM:+0200
TZOFFSETTO:+0100
TZNAME:CET
END:STANDARD
END:VTIMEZONE
END:VCALENDAR