BEGIN:VCALENDAR
VERSION:2.0
PRODID:-//wp-events-plugin.com//7.2.3.1//EN
TZID:Europe/Amsterdam
X-WR-TIMEZONE:Europe/Amsterdam
BEGIN:VEVENT
UID:2038@worldglaucomaweek.org
DTSTART;TZID=Europe/Amsterdam:20180310T080000
DTEND;TZID=Europe/Amsterdam:20180312T151500
DTSTAMP:20180310T030104Z
URL:https://www.worldglaucomaweek.org/activity/deteccion-temprana-de-glauc
 oma/
SUMMARY:Detección Temprana de Glaucoma
DESCRIPTION:
CATEGORIES:Screening event
LOCATION:Instituto Nacional de Oftalmología\, Calle Claudio Sanjinez \, La
  Paz\, Bolivia
GEO:-16.5057608;-68.1189584
X-APPLE-STRUCTURED-LOCATION;VALUE=URI;X-ADDRESS=Calle Claudio Sanjinez \, L
 a Paz\, Bolivia;X-APPLE-RADIUS=100;X-TITLE=Instituto Nacional de Oftalmolo
 gía:geo:-16.5057608,-68.1189584
END:VEVENT
BEGIN:VTIMEZONE
TZID:Europe/Amsterdam
X-LIC-LOCATION:Europe/Amsterdam
BEGIN:STANDARD
DTSTART:20171029T020000
TZOFFSETFROM:+0200
TZOFFSETTO:+0100
TZNAME:CET
END:STANDARD
END:VTIMEZONE
END:VCALENDAR