BEGIN:VCALENDAR
VERSION:2.0
PRODID:-//wp-events-plugin.com//7.2.3.1//EN
TZID:Europe/Amsterdam
X-WR-TIMEZONE:Europe/Amsterdam
BEGIN:VEVENT
UID:1783@worldglaucomaweek.org
DTSTART;TZID=Europe/Amsterdam:20180316T080000
DTEND;TZID=Europe/Amsterdam:20180316T120000
DTSTAMP:20180301T152310Z
URL:https://www.worldglaucomaweek.org/activity/desayuno-conferencia-activi
 dades-ludicas-con-pacientes-en-club-de-glaucoma-diabetes-e-hipertension-ar
 terial/
SUMMARY:Desayuno/Conferencia/actividades ludicas con pacientes en club de g
 laucoma\, diabetes e hipertension arterial
DESCRIPTION:\n\n\nDesayuno/Conferencia/actividades ludicas con pacientes en
  club de glaucoma\, diabetes e hipertension arterial\n\n\n
ATTACH;FMTTYPE=image/jpeg:https://www.worldglaucomaweek.org/wp-content/upl
 oads/2018/03/Imagen-1.png
CATEGORIES:Public educational
LOCATION:Armada Nacional\, Calle 58 esquina Via 40\, Barranquilla\, Colombi
 a\, Colombia
GEO:6.264832999999999;-75.570019
X-APPLE-STRUCTURED-LOCATION;VALUE=URI;X-ADDRESS=Calle 58 esquina Via 40\, B
 arranquilla\, Colombia\, Colombia;X-APPLE-RADIUS=100;X-TITLE=Armada Nacion
 al:geo:6.264832999999999,-75.570019
END:VEVENT
BEGIN:VTIMEZONE
TZID:Europe/Amsterdam
X-LIC-LOCATION:Europe/Amsterdam
BEGIN:STANDARD
DTSTART:20171029T020000
TZOFFSETFROM:+0200
TZOFFSETTO:+0100
TZNAME:CET
END:STANDARD
END:VTIMEZONE
END:VCALENDAR