BEGIN:VCALENDAR
VERSION:2.0
PRODID:-//wp-events-plugin.com//7.2.3.1//EN
TZID:Europe/Amsterdam
X-WR-TIMEZONE:Europe/Amsterdam
BEGIN:VEVENT
UID:2158@worldglaucomaweek.org
DTSTART;TZID=Europe/Amsterdam;VALUE=DATE:20180311
DTEND;TZID=Europe/Amsterdam;VALUE=DATE:20180318
DTSTAMP:20180314T030759Z
URL:https://www.worldglaucomaweek.org/activity/davao-doctors-hospital-post
 er-display/
SUMMARY:Davao Doctors Hospital Poster Display
DESCRIPTION:
CATEGORIES:Public educational
LOCATION:Davao Doctors Hospital\, Quirino Ave\, Davao City\, Davao del Sur\
 , Philippines
GEO:7.0712568;125.60645060000002
X-APPLE-STRUCTURED-LOCATION;VALUE=URI;X-ADDRESS=Quirino Ave\, Davao City\, 
 Davao del Sur\, Philippines;X-APPLE-RADIUS=100;X-TITLE=Davao Doctors Hospi
 tal:geo:7.0712568,125.60645060000002
END:VEVENT
BEGIN:VTIMEZONE
TZID:Europe/Amsterdam
X-LIC-LOCATION:Europe/Amsterdam
BEGIN:STANDARD
DTSTART:20171029T020000
TZOFFSETFROM:+0200
TZOFFSETTO:+0100
TZNAME:CET
END:STANDARD
END:VTIMEZONE
END:VCALENDAR