BEGIN:VCALENDAR
VERSION:2.0
PRODID:-//wp-events-plugin.com//7.2.3.1//EN
TZID:Europe/Amsterdam
X-WR-TIMEZONE:Europe/Amsterdam
BEGIN:VEVENT
UID:2655@worldglaucomaweek.org
DTSTART;TZID=Europe/Amsterdam;VALUE=DATE:20190310
DTEND;TZID=Europe/Amsterdam;VALUE=DATE:20190317
DTSTAMP:20190305T183935Z
URL:https://www.worldglaucomaweek.org/activity/croatian-public-health-camp
 agne-19/
SUMMARY:Croatian Public-Health Campagne
DESCRIPTION:
ATTACH;FMTTYPE=image/jpeg:https://www.worldglaucomaweek.org/wp-content/upl
 oads/2019/03/Slika1-16.jpg
CATEGORIES:Media coverage
LOCATION:General Hospital Pula\, Zagrebačka 30\, Pula\, Croatia\, Croatia
GEO:44.8682959;13.853252600000019
X-APPLE-STRUCTURED-LOCATION;VALUE=URI;X-ADDRESS=Zagrebačka 30\, Pula\, Cro
 atia\, Croatia;X-APPLE-RADIUS=100;X-TITLE=General Hospital Pula:geo:44.868
 2959,13.853252600000019
END:VEVENT
BEGIN:VTIMEZONE
TZID:Europe/Amsterdam
X-LIC-LOCATION:Europe/Amsterdam
BEGIN:STANDARD
DTSTART:20181028T020000
TZOFFSETFROM:+0200
TZOFFSETTO:+0100
TZNAME:CET
END:STANDARD
END:VTIMEZONE
END:VCALENDAR