BEGIN:VCALENDAR
VERSION:2.0
PRODID:-//wp-events-plugin.com//7.2.3.1//EN
TZID:Europe/Amsterdam
X-WR-TIMEZONE:Europe/Amsterdam
BEGIN:VEVENT
UID:3013@worldglaucomaweek.org
DTSTART;TZID=Europe/Amsterdam;VALUE=DATE:20190312
DTEND;TZID=Europe/Amsterdam;VALUE=DATE:20190313
DTSTAMP:20190326T232127Z
URL:https://www.worldglaucomaweek.org/activity/courses/
SUMMARY:Courses
DESCRIPTION:
CATEGORIES:Media coverage
LOCATION:Zhejiang University The Second Hospital\, Zhejiang University The 
 Second Hospital\, Hangzhou\, China
GEO:30.2512969;120.17744459999994
X-APPLE-STRUCTURED-LOCATION;VALUE=URI;X-ADDRESS=Zhejiang University The Sec
 ond Hospital\, Hangzhou\, China;X-APPLE-RADIUS=100;X-TITLE=Zhejiang Univer
 sity The Second Hospital:geo:30.2512969,120.17744459999994
END:VEVENT
BEGIN:VTIMEZONE
TZID:Europe/Amsterdam
X-LIC-LOCATION:Europe/Amsterdam
BEGIN:STANDARD
DTSTART:20181028T020000
TZOFFSETFROM:+0200
TZOFFSETTO:+0100
TZNAME:CET
END:STANDARD
END:VTIMEZONE
END:VCALENDAR