BEGIN:VCALENDAR
VERSION:2.0
PRODID:-//wp-events-plugin.com//7.2.3.1//EN
TZID:Europe/Amsterdam
X-WR-TIMEZONE:Europe/Amsterdam
BEGIN:VEVENT
UID:3005@worldglaucomaweek.org
DTSTART;TZID=Europe/Amsterdam:20190312T090000
DTEND;TZID=Europe/Amsterdam:20190312T110000
DTSTAMP:20190326T230809Z
URL:https://www.worldglaucomaweek.org/activity/courses-and-screening-9/
SUMMARY:Courses and Screening
DESCRIPTION:
CATEGORIES:Media coverage
LOCATION:Renmin Hospital of Jiangsu\, Nanjing\, Jiangsu \, China
GEO:32.060255;118.796877
X-APPLE-STRUCTURED-LOCATION;VALUE=URI;X-ADDRESS=Nanjing\, Jiangsu \, China;
 X-APPLE-RADIUS=100;X-TITLE=Renmin Hospital of Jiangsu:geo:32.060255,118.79
 6877
END:VEVENT
BEGIN:VTIMEZONE
TZID:Europe/Amsterdam
X-LIC-LOCATION:Europe/Amsterdam
BEGIN:STANDARD
DTSTART:20181028T020000
TZOFFSETFROM:+0200
TZOFFSETTO:+0100
TZNAME:CET
END:STANDARD
END:VTIMEZONE
END:VCALENDAR