BEGIN:VCALENDAR
VERSION:2.0
PRODID:-//wp-events-plugin.com//7.2.3.1//EN
TZID:Europe/Amsterdam
X-WR-TIMEZONE:Europe/Amsterdam
BEGIN:VEVENT
UID:3003@worldglaucomaweek.org
DTSTART;TZID=Europe/Amsterdam:20190310T080000
DTEND;TZID=Europe/Amsterdam:20190310T113000
DTSTAMP:20190326T230237Z
URL:https://www.worldglaucomaweek.org/activity/courses-and-screening-7/
SUMMARY:Courses and Screening
DESCRIPTION:
CATEGORIES:Media coverage
LOCATION:Wuhan Aier Eye Hospital\, Wuhan Aier Eye Hospital\, Wuhan\, Hubei\
 , China
GEO:30.5392968;114.31919340000002
X-APPLE-STRUCTURED-LOCATION;VALUE=URI;X-ADDRESS=Wuhan Aier Eye Hospital\, W
 uhan\, Hubei\, China;X-APPLE-RADIUS=100;X-TITLE=Wuhan Aier Eye Hospital:ge
 o:30.5392968,114.31919340000002
END:VEVENT
BEGIN:VTIMEZONE
TZID:Europe/Amsterdam
X-LIC-LOCATION:Europe/Amsterdam
BEGIN:STANDARD
DTSTART:20181028T020000
TZOFFSETFROM:+0200
TZOFFSETTO:+0100
TZNAME:CET
END:STANDARD
END:VTIMEZONE
END:VCALENDAR