BEGIN:VCALENDAR
VERSION:2.0
PRODID:-//wp-events-plugin.com//7.2.3.1//EN
TZID:Europe/Amsterdam
X-WR-TIMEZONE:Europe/Amsterdam
BEGIN:VEVENT
UID:3001@worldglaucomaweek.org
DTSTART;TZID=Europe/Amsterdam:20190314T140000
DTEND;TZID=Europe/Amsterdam:20190314T160000
DTSTAMP:20190326T225842Z
URL:https://www.worldglaucomaweek.org/activity/courses-and-screening-5/
SUMMARY:Courses and Screening
DESCRIPTION:
CATEGORIES:Media coverage
LOCATION:Chendu the First Hospital\, Chendu the First Hospital\, Chengdu\, 
 China
GEO:30.590216;104.05206399999997
X-APPLE-STRUCTURED-LOCATION;VALUE=URI;X-ADDRESS=Chendu the First Hospital\,
  Chengdu\, China;X-APPLE-RADIUS=100;X-TITLE=Chendu the First Hospital:geo:
 30.590216,104.05206399999997
END:VEVENT
BEGIN:VTIMEZONE
TZID:Europe/Amsterdam
X-LIC-LOCATION:Europe/Amsterdam
BEGIN:STANDARD
DTSTART:20181028T020000
TZOFFSETFROM:+0200
TZOFFSETTO:+0100
TZNAME:CET
END:STANDARD
END:VTIMEZONE
END:VCALENDAR