BEGIN:VCALENDAR
VERSION:2.0
PRODID:-//wp-events-plugin.com//7.2.3.1//EN
TZID:Europe/Amsterdam
X-WR-TIMEZONE:Europe/Amsterdam
BEGIN:VEVENT
UID:3000@worldglaucomaweek.org
DTSTART;TZID=Europe/Amsterdam:20190308T140000
DTEND;TZID=Europe/Amsterdam:20190308T160000
DTSTAMP:20190326T225524Z
URL:https://www.worldglaucomaweek.org/activity/courses-and-screening-4/
SUMMARY:Courses and Screening
DESCRIPTION:
CATEGORIES:Media coverage
LOCATION:Hebei Eye Hospital\, Hebei Eye Hospital\, Shijiazhuang\, China
GEO:38.042805;114.51489300000003
X-APPLE-STRUCTURED-LOCATION;VALUE=URI;X-ADDRESS=Hebei Eye Hospital\, Shijia
 zhuang\, China;X-APPLE-RADIUS=100;X-TITLE=Hebei Eye Hospital:geo:38.042805
 ,114.51489300000003
END:VEVENT
BEGIN:VTIMEZONE
TZID:Europe/Amsterdam
X-LIC-LOCATION:Europe/Amsterdam
BEGIN:STANDARD
DTSTART:20181028T020000
TZOFFSETFROM:+0200
TZOFFSETTO:+0100
TZNAME:CET
END:STANDARD
END:VTIMEZONE
END:VCALENDAR