BEGIN:VCALENDAR
VERSION:2.0
PRODID:-//wp-events-plugin.com//7.2.3.1//EN
TZID:Europe/Amsterdam
X-WR-TIMEZONE:Europe/Amsterdam
BEGIN:VEVENT
UID:3014@worldglaucomaweek.org
DTSTART;TZID=Europe/Amsterdam:20190311T140000
DTEND;TZID=Europe/Amsterdam:20190311T160000
DTSTAMP:20190326T232237Z
URL:https://www.worldglaucomaweek.org/activity/courses-and-screening-17/
SUMMARY:Courses and Screening
DESCRIPTION:
CATEGORIES:Media coverage
LOCATION:Chengdu Huaxia Eye Hospital\, Chengdu Huaxia Eye Hospital \, cheng
 du\, China
GEO:30.572815;104.06680099999994
X-APPLE-STRUCTURED-LOCATION;VALUE=URI;X-ADDRESS=Chengdu Huaxia Eye Hospital
  \, chengdu\, China;X-APPLE-RADIUS=100;X-TITLE=Chengdu Huaxia Eye Hospital
 :geo:30.572815,104.06680099999994
END:VEVENT
BEGIN:VTIMEZONE
TZID:Europe/Amsterdam
X-LIC-LOCATION:Europe/Amsterdam
BEGIN:STANDARD
DTSTART:20181028T020000
TZOFFSETFROM:+0200
TZOFFSETTO:+0100
TZNAME:CET
END:STANDARD
END:VTIMEZONE
END:VCALENDAR