BEGIN:VCALENDAR
VERSION:2.0
PRODID:-//wp-events-plugin.com//7.2.3.1//EN
TZID:Europe/Amsterdam
X-WR-TIMEZONE:Europe/Amsterdam
BEGIN:VEVENT
UID:3010@worldglaucomaweek.org
DTSTART;TZID=Europe/Amsterdam:20190315T150000
DTEND;TZID=Europe/Amsterdam:20190315T170000
DTSTAMP:20190326T231711Z
URL:https://www.worldglaucomaweek.org/activity/courses-and-screening-14/
SUMMARY:Courses and Screening
DESCRIPTION:
CATEGORIES:Media coverage
LOCATION:Tianjin Eye Hospital\, Tianjin Eye Hospital\, Tianjin\, China
GEO:39.124343;117.18540000000007
X-APPLE-STRUCTURED-LOCATION;VALUE=URI;X-ADDRESS=Tianjin Eye Hospital\, Tian
 jin\, China;X-APPLE-RADIUS=100;X-TITLE=Tianjin Eye Hospital:geo:39.124343,
 117.18540000000007
END:VEVENT
BEGIN:VTIMEZONE
TZID:Europe/Amsterdam
X-LIC-LOCATION:Europe/Amsterdam
BEGIN:STANDARD
DTSTART:20181028T020000
TZOFFSETFROM:+0200
TZOFFSETTO:+0100
TZNAME:CET
END:STANDARD
END:VTIMEZONE
END:VCALENDAR