BEGIN:VCALENDAR
VERSION:2.0
PRODID:-//wp-events-plugin.com//7.2.3.1//EN
TZID:Europe/Amsterdam
X-WR-TIMEZONE:Europe/Amsterdam
BEGIN:VEVENT
UID:3009@worldglaucomaweek.org
DTSTART;TZID=Europe/Amsterdam:20190311T150000
DTEND;TZID=Europe/Amsterdam:20190311T170000
DTSTAMP:20190326T231452Z
URL:https://www.worldglaucomaweek.org/activity/courses-and-screening-13/
SUMMARY:Courses and Screening
DESCRIPTION:
CATEGORIES:Media coverage
LOCATION:Peking University Renmin Hospital\, Peking University Renmin Hospi
 tal\, Beijing\, China
GEO:39.936532;116.354693
X-APPLE-STRUCTURED-LOCATION;VALUE=URI;X-ADDRESS=Peking University Renmin Ho
 spital\, Beijing\, China;X-APPLE-RADIUS=100;X-TITLE=Peking University Renm
 in Hospital:geo:39.936532,116.354693
END:VEVENT
BEGIN:VTIMEZONE
TZID:Europe/Amsterdam
X-LIC-LOCATION:Europe/Amsterdam
BEGIN:STANDARD
DTSTART:20181028T020000
TZOFFSETFROM:+0200
TZOFFSETTO:+0100
TZNAME:CET
END:STANDARD
END:VTIMEZONE
END:VCALENDAR