BEGIN:VCALENDAR
VERSION:2.0
PRODID:-//wp-events-plugin.com//7.2.3.1//EN
TZID:Europe/Amsterdam
X-WR-TIMEZONE:Europe/Amsterdam
BEGIN:VEVENT
UID:3008@worldglaucomaweek.org
DTSTART;TZID=Europe/Amsterdam:20190311T090000
DTEND;TZID=Europe/Amsterdam:20190311T110000
DTSTAMP:20190326T231337Z
URL:https://www.worldglaucomaweek.org/activity/courses-and-screening-12/
SUMMARY:Courses and Screening
DESCRIPTION:
CATEGORIES:Media coverage
LOCATION:Xiamen Eye Center\, Xiamen Eye Center\, xiamen\, Fujian\, China
GEO:24.4600037;118.08092970000007
X-APPLE-STRUCTURED-LOCATION;VALUE=URI;X-ADDRESS=Xiamen Eye Center\, xiamen\
 , Fujian\, China;X-APPLE-RADIUS=100;X-TITLE=Xiamen Eye Center:geo:24.46000
 37,118.08092970000007
END:VEVENT
BEGIN:VTIMEZONE
TZID:Europe/Amsterdam
X-LIC-LOCATION:Europe/Amsterdam
BEGIN:STANDARD
DTSTART:20181028T020000
TZOFFSETFROM:+0200
TZOFFSETTO:+0100
TZNAME:CET
END:STANDARD
END:VTIMEZONE
END:VCALENDAR