BEGIN:VCALENDAR
VERSION:2.0
PRODID:-//wp-events-plugin.com//7.2.3.1//EN
TZID:Europe/Amsterdam
X-WR-TIMEZONE:Europe/Amsterdam
BEGIN:VEVENT
UID:2679@worldglaucomaweek.org
DTSTART;TZID=Europe/Amsterdam:20190310T083000
DTEND;TZID=Europe/Amsterdam:20190310T113000
DTSTAMP:20190306T081737Z
URL:https://www.worldglaucomaweek.org/activity/course-and-screening/
SUMMARY:Course and screening
DESCRIPTION:\n【活动预告】视神经一张照，青光眼早知道—
 —“世界青光眼周”科普宣教活动\n2019-02-27上海第九人
 民医院3891人阅读\n青光眼是全世界首位不可逆致盲性眼
 病，中国有近千万青光眼患者。青光眼的病因复杂且有
 遗传倾向，表现为视神经损害、视野缺损，眼压升高或
 正常。青光眼导致的视神经损害是永久的，青光眼可以
 有眼痛眼胀，但也可以没有任何症状，早期发现可以得
 到有效的预防和治疗。\n\n“世界青光眼周”是由世界青
 光眼联合会和世界青光眼患者联合会共同发起的一项全
 球性活动，每次的“世界青光眼周”旨在提高青光眼的
 知晓率。2019年3月10日至16日是第12个世界青光眼周。为提
 高青光眼的防治知晓率，上海市医学会眼科分会青光眼
 学组拟联合上海交通大学医学院附属第九人民医院眼科
 开展主题为“视神经一张照，青光眼早知道”的青光眼
 科普宣教活动。\n\n活动时间：\n2019年3月10日（周日）上
 午8：30-11:00\n活动地点：\n上海市黄浦区瞿溪路500号上海
 交通大学医学院附属第九人民医院新门诊楼一楼大厅\n参
 与专家：\n全体上海市医学会眼科分会青光眼学组专家\n
 活动形式：\n①青光眼专家进行现场宣教、咨询以及青光
 眼患病风险评估；\n②免费眼压测量和眼底照相；\n③人
 数：限200人。\n联系人：\n曾老师，18019791165\n\n上海交通
 大学医学院附属第九人民医院\n上海市医学会眼科分会青
 光眼学组\n2019年2月27日\n\n\n
CATEGORIES:Media coverage
LOCATION:Shanghai\, The ninth Hospital\, Shanghai\, China
GEO:31.20326499999999;121.48510599999997
X-APPLE-STRUCTURED-LOCATION;VALUE=URI;X-ADDRESS=The ninth Hospital\, Shangh
 ai\, China;X-APPLE-RADIUS=100;X-TITLE=Shanghai:geo:31.20326499999999,121.4
 8510599999997
END:VEVENT
BEGIN:VTIMEZONE
TZID:Europe/Amsterdam
X-LIC-LOCATION:Europe/Amsterdam
BEGIN:STANDARD
DTSTART:20181028T020000
TZOFFSETFROM:+0200
TZOFFSETTO:+0100
TZNAME:CET
END:STANDARD
END:VTIMEZONE
END:VCALENDAR