BEGIN:VCALENDAR
VERSION:2.0
PRODID:-//wp-events-plugin.com//7.2.3.1//EN
TZID:Europe/Amsterdam
X-WR-TIMEZONE:Europe/Amsterdam
BEGIN:VEVENT
UID:2684@worldglaucomaweek.org
DTSTART;TZID=Europe/Amsterdam:20190309T090000
DTEND;TZID=Europe/Amsterdam:20190309T101500
DTSTAMP:20190306T085330Z
URL:https://www.worldglaucomaweek.org/activity/course-and-screening-6/
SUMMARY:Course and screening
DESCRIPTION:【活动预告】2019年青岛眼科医院“世界青光眼
 周”系列活动来啦\n青光眼科 青岛眼科医院\n\n青光眼是
 世界第二位的致盲性眼病，不同于白内障的可复明性，
 青光眼是第一位不可逆致盲性眼病。根据有关资料显示
 ，到2020年，我国约有2200万青光眼患者。青光眼的病因复
 杂且有遗传倾向，其导致的视神经损害是永久的，不可
 逆转的，一旦失明不能恢复。青光眼可以有眼痛、眼胀
 ，但也可以没有任何症状，早期患者难以自我识别发现
 ，早期不能得到有效的预防和治疗，造成视功能的不可
 逆性损伤。“世界青光眼周”是由世界青光眼联合会和
 世界青光眼患者联合会共同发起的一项全球性活动，旨
 在通过多种宣传途径，让公众多了解青光眼知识，提高
 对青光眼的认识，达到早防早治青光眼的目的。为提高
 青岛广大市民对青光眼的防治知晓率，青岛眼科医院谢
 立信院士青光眼团队将开展一系列主题为“视神经一张
 照，青光眼早知道”的青光眼宣教和大型科普义诊活动
 。\n\n\n\n1电台宣传活动---3月6日 “世界青光眼日”线上
 宣传、线下义诊。青岛眼科医院谢立信院士青光眼团队
 将与青岛名医在线广播电台共同完成这次宣传节目，青
 光眼科主任、知名专家潘晓晶教授将做客电台，为您讲
 解青光眼知识！锁定频道，准时收听！时间：2019年3月6
 日（周三）中午12:00-13:00\n\n频道：FM95.2频道\n\n\n\n2科普
 讲座---3月9日宣教青光眼各种科普知识，通俗易懂地讲解
 青光眼，填写青光眼调查问卷，让您认识青光眼，了解
 青光眼，战胜青光眼。时间：2019年3月9日（周六）上午9:
 00-10:00\n\n地点：青岛眼科医院本部1号楼，6楼会议室（市
 南区燕儿岛路5号）\n\n\n\n▲青光眼科主任潘晓晶做讲座3
 大型义诊活动---2019年3月9日每年青光眼周我们都会有义
 诊活动，今年同样也不例外，届时会有青岛眼科医院青
 光眼科各位专家及专科医师会亲临坐诊，为您免费筛查
 青光眼，早期发现早期治疗。免费检查包括视力、眼压
 、裂隙灯及眼底检查。\n\n每人会得到一张免费眼压检测
 卡（8次）、一份青光眼宣教手册和一个饮水量测量杯。\
 n\n时间：2019年3月9日（周六）上午10:00-12:30\n\n地点：青
 岛眼科医院本部1号楼，6楼小会议室（市南区燕儿岛路5
 号）\n\n
CATEGORIES:Media coverage
LOCATION:Qingdao\, Qingdao\, Qingdao\, Shandong\, China
GEO:36.067108;120.382609
X-APPLE-STRUCTURED-LOCATION;VALUE=URI;X-ADDRESS=Qingdao\, Qingdao\, Shandon
 g\, China;X-APPLE-RADIUS=100;X-TITLE=Qingdao:geo:36.067108,120.382609
END:VEVENT
BEGIN:VTIMEZONE
TZID:Europe/Amsterdam
X-LIC-LOCATION:Europe/Amsterdam
BEGIN:STANDARD
DTSTART:20181028T020000
TZOFFSETFROM:+0200
TZOFFSETTO:+0100
TZNAME:CET
END:STANDARD
END:VTIMEZONE
END:VCALENDAR