BEGIN:VCALENDAR
VERSION:2.0
PRODID:-//wp-events-plugin.com//7.2.3.1//EN
TZID:Europe/Amsterdam
X-WR-TIMEZONE:Europe/Amsterdam
BEGIN:VEVENT
UID:2683@worldglaucomaweek.org
DTSTART;TZID=Europe/Amsterdam:20190313T150000
DTEND;TZID=Europe/Amsterdam:20190313T170000
DTSTAMP:20190306T084801Z
URL:https://www.worldglaucomaweek.org/activity/course-and-screening-5/
SUMMARY:Course and screening
DESCRIPTION:2019年重医大附三院青光眼患者教育活动\n重医附
 三院眼科 \n\n\n\n看美好的风景，读美好的书，眼睛看见
 的不仅仅是光，还有希望和未来！眼睛给我们带来了光
 明，眼睛给我们感知世界的能力。\n\n现在，有这样一种
 眼病，正悄悄地“偷”走我们的视力和视野。它就是—
 —青光眼。\n\n青光眼，这一全世界首位不可逆性致盲眼
 病，威胁着中国千万的患者。它导致的神经损害是不可
 逆性的，多数早中期青光眼可以没有任何症状。早期筛
 查，可以令病情得到有效的预防和治疗。\n\n \n\n2019年3
 月10日-16日是世界青光眼周。今年的主题是“视神经一张
 照，青光眼早知道”。\n\n为了让公众更多了解青光眼知
 识，提高对青光眼疾病的认识，达到防治青光眼的目的
 ，重医大附三院眼科将举办青光眼患者教育讲座。\n\n讲
 座内容：\n\n“警惕视力的“小偷”——青光眼”  \n\n
 主讲：谢琳教授\n\n“抗青光眼药物治疗的原则和注意事
 项”   \n\n  主讲：李翔骥博士\n\n时间：2019年03月13日
 下午（周三）15：00\n\n地址：重医大附三院学术报告厅（
 住院部一楼康复科向前行200米）\n\n届时到会听课者均可
 领取5次免费测眼压，并有机会获得赠送的抗青光眼药物
 ，欢迎广大青光眼患者和家属朋友参加！\n\n咨询电话：\
 n\n（023）60353091\n\n 13220379513\n\n
CATEGORIES:Media coverage
LOCATION:Chongqing\, Chongqing\, Chongqing\, China
GEO:29.4315861;106.91225099999997
X-APPLE-STRUCTURED-LOCATION;VALUE=URI;X-ADDRESS=Chongqing\, Chongqing\, Chi
 na;X-APPLE-RADIUS=100;X-TITLE=Chongqing:geo:29.4315861,106.91225099999997
END:VEVENT
BEGIN:VTIMEZONE
TZID:Europe/Amsterdam
X-LIC-LOCATION:Europe/Amsterdam
BEGIN:STANDARD
DTSTART:20181028T020000
TZOFFSETFROM:+0200
TZOFFSETTO:+0100
TZNAME:CET
END:STANDARD
END:VTIMEZONE
END:VCALENDAR