BEGIN:VCALENDAR
VERSION:2.0
PRODID:-//wp-events-plugin.com//7.2.3.1//EN
TZID:Europe/Amsterdam
X-WR-TIMEZONE:Europe/Amsterdam
BEGIN:VEVENT
UID:2682@worldglaucomaweek.org
DTSTART;TZID=Europe/Amsterdam:20190316T083000
DTEND;TZID=Europe/Amsterdam:20190316T114500
DTSTAMP:20190306T083711Z
URL:https://www.worldglaucomaweek.org/activity/course-and-screening-4/
SUMMARY:Course and screening
DESCRIPTION:
CATEGORIES:Media coverage
LOCATION:Beijing\, Peking University Third Hospital \, Beijing\, China
GEO:39.981827;116.35930200000007
X-APPLE-STRUCTURED-LOCATION;VALUE=URI;X-ADDRESS=Peking University Third Hos
 pital \, Beijing\, China;X-APPLE-RADIUS=100;X-TITLE=Beijing:geo:39.981827,
 116.35930200000007
END:VEVENT
BEGIN:VTIMEZONE
TZID:Europe/Amsterdam
X-LIC-LOCATION:Europe/Amsterdam
BEGIN:STANDARD
DTSTART:20181028T020000
TZOFFSETFROM:+0200
TZOFFSETTO:+0100
TZNAME:CET
END:STANDARD
END:VTIMEZONE
END:VCALENDAR