BEGIN:VCALENDAR
VERSION:2.0
PRODID:-//wp-events-plugin.com//7.2.3.1//EN
TZID:Europe/Amsterdam
X-WR-TIMEZONE:Europe/Amsterdam
BEGIN:VEVENT
UID:2680@worldglaucomaweek.org
DTSTART;TZID=Europe/Amsterdam:20190314T081500
DTEND;TZID=Europe/Amsterdam:20190314T110000
DTSTAMP:20190306T082332Z
URL:https://www.worldglaucomaweek.org/activity/course-and-screening-2/
SUMMARY:Course and screening
DESCRIPTION:\n 	2019年世界青光眼周系列活\n\n2019年3月10日-16
 日是第12个世界青光眼周，今年世界青光眼周主题：视神
 经一张照，青光眼早知道。世界青光眼周（World Glaucoma We
 ek）青光眼是世界第二位致盲性眼病，相较于可以手术复
 明的第一位致盲眼病白内障而言，目前由于青光眼导致
 的视力丧失是不可逆的。我国青光眼患者中，绝大多数
 不了解青光眼，甚至未曾听闻青光眼，因此对青光眼不
 够重视。根据有关资料显示，到2020年，我国约有2200万青
 光眼患者。面对庞大的患者群体，在每年3月的第2周，设
 立世界青光眼周，旨在通过多种宣传途径，让公众多了
 解青光眼知识，提高对青光眼的认识，达到防治青光眼
 的目的。\n\n为提高广大民众对青光眼的认知，普及青光
 眼防治知识，青岛新视界眼科医院青光眼科特举行 “视
 神经一张照，青光眼早知道”大型专题讲座和免费义诊
 活动，诚邀您的参加！ 系列活动一：免费检查 青光眼
 周活动期间(3月10日-3月16日)，来院群众借可享受免费眼
 部筛查，项目包括：1、视力检查\n\n2、裂隙灯检查\n\n3、
 眼底镜检查\n\n4、眼压检查\n\n5、眼底照相\n\n 系列活动
 二：公益讲座3月14日早9点，我院国家级著名青光眼专家
 戴超院长将为大家讲解青光眼科普知识，并现场互动，
 解答您的疑惑，让您认识青光眼，了解青光眼，战胜青
 光眼。地点：青岛新视界眼科医院6楼会议室\n\n 系列活
 动三：免费义诊3月10日及3月16日，我院将联合青岛市残
 联开展白内障复明工程暨“视神经一张照，青光眼早知
 道” 免费大型义诊活动，届时我院青光眼专家会亲临坐
 诊，为您免费筛查青光眼。3月10日义诊活动，李村文化
 公园\n\n3月16日义诊活动，李村沧口公园\n\n注意，这四类
 人最容易得青光眼：1、家里有亲属得青光眼的人。由于
 遗传因素，这类人患青光眼的几率会比其他人高出10倍左
 右。\n\n2、近视眼和远视眼患者。\n\n3、糖尿病、甲状腺
 疾病等内分泌疾病患者。\n\n4、工作压力大、生活无规律
 、容易发脾气、日常情绪波动较大的人。因为，精神因
 素也是引发青光眼的一大原因。\n\n特别提醒：头疼、恶
 心、呕吐可能是青光眼的信号青光眼发病迅速且危害性
 大，由于隐匿性较强，早期不容易察觉。青光眼发作时
 的头痛、恶心、呕吐等，是很多疾病都共有的常见症状
 。所以，青光眼的急性发作时的头痛，容易使人误以为
 是受凉感冒，因而忽视了眼部病变的检查，错失了青光
 眼早期确诊、早期治疗的良机。患者到医院就诊时，一
 定要“知无不言”，和医生讲清楚自己都有哪些不适，
 不要放过任何看似毫不相干的细节。比如，视力模糊、
 视野变窄等。以免耽误治疗时机。\n动来了!快来看!\n 新
 视界眼科 青岛新视界眼科医院 \n&nbsp\;\n
CATEGORIES:Media coverage
LOCATION:Qingdao\, Qingdao\, Qingdao\, China
GEO:36.067108;120.382609
X-APPLE-STRUCTURED-LOCATION;VALUE=URI;X-ADDRESS=Qingdao\, Qingdao\, China;X
 -APPLE-RADIUS=100;X-TITLE=Qingdao:geo:36.067108,120.382609
END:VEVENT
BEGIN:VTIMEZONE
TZID:Europe/Amsterdam
X-LIC-LOCATION:Europe/Amsterdam
BEGIN:STANDARD
DTSTART:20181028T020000
TZOFFSETFROM:+0200
TZOFFSETTO:+0100
TZNAME:CET
END:STANDARD
END:VTIMEZONE
END:VCALENDAR