BEGIN:VCALENDAR
VERSION:2.0
PRODID:-//wp-events-plugin.com//7.2.3.1//EN
TZID:Europe/Amsterdam
X-WR-TIMEZONE:Europe/Amsterdam
BEGIN:VEVENT
UID:2980@worldglaucomaweek.org
DTSTART;TZID=Europe/Amsterdam:20190312T100000
DTEND;TZID=Europe/Amsterdam:20190312T110000
DTSTAMP:20190321T223842Z
URL:https://www.worldglaucomaweek.org/activity/counseling-event/
SUMMARY:Counseling Event
DESCRIPTION:In honor of World Glaucoma Week 2019\, the Ophthalmology Depart
 ment of Diponegoro University held a series of activities\, including coun
 seling to surrounding community\, providing information and consultation s
 ession through a radio broadcast\, and free examinations and education to 
 the general public on the upcoming Car Free Day event on March 24th\, 2019
 .\n\nThe counseling was held at Dr. Kariadi Hospital on March 12th\, 2019.
  Within the counseling were information to help people be more aware of wh
 at Glaucoma is\, what the signs and symptoms are\, and what type of treatm
 ents are available. With the amount of information given\, we expect that 
 people would be more vigilant of the early symptoms of Glaucoma. Hoping th
 ey would come for an earlier check-up and prevent further damage. Through 
 these series of events we hope that blindness due to Glaucoma can be reduc
 ed.
ATTACH;FMTTYPE=image/jpeg:https://www.worldglaucomaweek.org/wp-content/upl
 oads/2019/03/20190322_053809.jpg
CATEGORIES:Public educational
LOCATION:Dr. Kariadi Hospital\, Jl. DR. Sutomo No. 16\, Semarang\, Indonesi
 a\, 50244\, Central Java\, Indonesia
GEO:-6.994829999999999;110.40789059999997
X-APPLE-STRUCTURED-LOCATION;VALUE=URI;X-ADDRESS=Jl. DR. Sutomo No. 16\, Sem
 arang\, Indonesia\, 50244\, Central Java\, Indonesia;X-APPLE-RADIUS=100;X-
 TITLE=Dr. Kariadi Hospital:geo:-6.994829999999999,110.40789059999997
END:VEVENT
BEGIN:VTIMEZONE
TZID:Europe/Amsterdam
X-LIC-LOCATION:Europe/Amsterdam
BEGIN:STANDARD
DTSTART:20181028T020000
TZOFFSETFROM:+0200
TZOFFSETTO:+0100
TZNAME:CET
END:STANDARD
END:VTIMEZONE
END:VCALENDAR