BEGIN:VCALENDAR
VERSION:2.0
PRODID:-//wp-events-plugin.com//7.2.3.1//EN
TZID:Europe/Amsterdam
X-WR-TIMEZONE:Europe/Amsterdam
BEGIN:VEVENT
UID:2986@worldglaucomaweek.org
DTSTART;TZID=Europe/Amsterdam:20190315T100000
DTEND;TZID=Europe/Amsterdam:20190323T150000
DTSTAMP:20190325T100945Z
URL:https://www.worldglaucomaweek.org/activity/counseling-and-family-gathe
 ring-with-glaucoma-community/
SUMMARY:Counseling and Family Gathering with Glaucoma Community
DESCRIPTION:Counseling and Family Gathering\nwith Glaucoma Community Of Sum
 atera Utara\nHealthy Life Style For Healthy Eyes\n#WORLDGLAUCOMAWEEK2019\n
 \n&nbsp\;
ATTACH;FMTTYPE=image/jpeg:https://www.worldglaucomaweek.org/wp-content/upl
 oads/2019/03/bRU.jpeg
CATEGORIES:Public educational
LOCATION:BUKIT KUBU\, berastagi\, medan\, indonesia\, 22152\, North Sumater
 a\, Indonesia
GEO:3.1935182;98.50839010000004
X-APPLE-STRUCTURED-LOCATION;VALUE=URI;X-ADDRESS=berastagi\, medan\, indones
 ia\, 22152\, North Sumatera\, Indonesia;X-APPLE-RADIUS=100;X-TITLE=BUKIT K
 UBU:geo:3.1935182,98.50839010000004
END:VEVENT
BEGIN:VTIMEZONE
TZID:Europe/Amsterdam
X-LIC-LOCATION:Europe/Amsterdam
BEGIN:STANDARD
DTSTART:20181028T020000
TZOFFSETFROM:+0200
TZOFFSETTO:+0100
TZNAME:CET
END:STANDARD
END:VTIMEZONE
END:VCALENDAR