BEGIN:VCALENDAR
VERSION:2.0
PRODID:-//wp-events-plugin.com//7.2.3.1//EN
TZID:Europe/Amsterdam
X-WR-TIMEZONE:Europe/Amsterdam
BEGIN:VEVENT
UID:2161@worldglaucomaweek.org
DTSTART;TZID=Europe/Amsterdam;VALUE=DATE:20180311
DTEND;TZID=Europe/Amsterdam;VALUE=DATE:20180318
DTSTAMP:20180314T031135Z
URL:https://www.worldglaucomaweek.org/activity/corazon-locsin-montelibano-
 memorial-hospital-poster-display/
SUMMARY:Corazon Locsin Montelibano Memorial Hospital Poster Display
DESCRIPTION:
CATEGORIES:Public educational
LOCATION:Corazon Locsin Montelibano Memorial Regional Hospital\, Lacson St.
 \, Bacolod\, Philippines
GEO:10.7021898;122.96223669999995
X-APPLE-STRUCTURED-LOCATION;VALUE=URI;X-ADDRESS=Lacson St.\, Bacolod\, Phil
 ippines;X-APPLE-RADIUS=100;X-TITLE=Corazon Locsin Montelibano Memorial Reg
 ional Hospital:geo:10.7021898,122.96223669999995
END:VEVENT
BEGIN:VTIMEZONE
TZID:Europe/Amsterdam
X-LIC-LOCATION:Europe/Amsterdam
BEGIN:STANDARD
DTSTART:20171029T020000
TZOFFSETFROM:+0200
TZOFFSETTO:+0100
TZNAME:CET
END:STANDARD
END:VTIMEZONE
END:VCALENDAR