BEGIN:VCALENDAR
VERSION:2.0
PRODID:-//wp-events-plugin.com//7.2.3.1//EN
TZID:Europe/Amsterdam
X-WR-TIMEZONE:Europe/Amsterdam
BEGIN:VEVENT
UID:1537@worldglaucomaweek.org
DTSTART;TZID=Europe/Amsterdam;VALUE=DATE:20180312
DTEND;TZID=Europe/Amsterdam;VALUE=DATE:20180316
DTSTAMP:20180130T115548Z
URL:https://www.worldglaucomaweek.org/activity/continuos-education/
SUMMARY:Continuos education
DESCRIPTION:
CATEGORIES:Public educational
LOCATION:Institute for Refractive and Ophthalmic Surgery (IROC)\, 37 Stocke
 r St.\, Zurich\, 8002\, Switzerland
GEO:47.36723749999999;8.53466960000003
X-APPLE-STRUCTURED-LOCATION;VALUE=URI;X-ADDRESS=37 Stocker St.\, Zurich\, 8
 002\, Switzerland;X-APPLE-RADIUS=100;X-TITLE=Institute for Refractive and 
 Ophthalmic Surgery (IROC):geo:47.36723749999999,8.53466960000003
END:VEVENT
BEGIN:VTIMEZONE
TZID:Europe/Amsterdam
X-LIC-LOCATION:Europe/Amsterdam
BEGIN:STANDARD
DTSTART:20171029T020000
TZOFFSETFROM:+0200
TZOFFSETTO:+0100
TZNAME:CET
END:STANDARD
END:VTIMEZONE
END:VCALENDAR