BEGIN:VCALENDAR
VERSION:2.0
PRODID:-//wp-events-plugin.com//7.2.3.1//EN
TZID:Europe/Amsterdam
X-WR-TIMEZONE:Europe/Amsterdam
BEGIN:VEVENT
UID:1621@worldglaucomaweek.org
DTSTART;TZID=Europe/Amsterdam:20180316T140000
DTEND;TZID=Europe/Amsterdam:20180316T150000
DTSTAMP:20180216T160031Z
URL:https://www.worldglaucomaweek.org/activity/conferencia-para-pacientes/
SUMMARY:Conferencia para pacientes
DESCRIPTION:\n\n\nConferencia para pacientes\n\n\n
ATTACH;FMTTYPE=image/jpeg:https://www.worldglaucomaweek.org/wp-content/upl
 oads/2018/02/Imagen-1-14.png
CATEGORIES:Public educational
LOCATION:AUDITORIO EDIFICIO EL BOSQUE\, Cl. 134 #7b-83\, BOGOTA\, CUNDINAMA
 RCA\, Colombia
GEO:4.7126906;-74.03081759999998
X-APPLE-STRUCTURED-LOCATION;VALUE=URI;X-ADDRESS=Cl. 134 #7b-83\, BOGOTA\, C
 UNDINAMARCA\, Colombia;X-APPLE-RADIUS=100;X-TITLE=AUDITORIO EDIFICIO EL BO
 SQUE:geo:4.7126906,-74.03081759999998
END:VEVENT
BEGIN:VTIMEZONE
TZID:Europe/Amsterdam
X-LIC-LOCATION:Europe/Amsterdam
BEGIN:STANDARD
DTSTART:20171029T020000
TZOFFSETFROM:+0200
TZOFFSETTO:+0100
TZNAME:CET
END:STANDARD
END:VTIMEZONE
END:VCALENDAR