BEGIN:VCALENDAR
VERSION:2.0
PRODID:-//wp-events-plugin.com//7.2.3.1//EN
TZID:Europe/Amsterdam
X-WR-TIMEZONE:Europe/Amsterdam
BEGIN:VEVENT
UID:2928@worldglaucomaweek.org
DTSTART;TZID=Europe/Amsterdam:20190311T090000
DTEND;TZID=Europe/Amsterdam:20190311T100000
DTSTAMP:20190314T150923Z
URL:https://www.worldglaucomaweek.org/activity/conferencia-gratuita-ultimo
 s-avances-en-el-cuidado-de-sus-ojos/
SUMMARY:Conferencia gratuita: Últimos  avances en el cuidado de sus ojos
DESCRIPTION:
CATEGORIES:Public educational
LOCATION:CRAC\, Calle 8 sur # 31 A- 31 \, Bogota\, Colombia
GEO:4.5989774;-74.10776529999998
X-APPLE-STRUCTURED-LOCATION;VALUE=URI;X-ADDRESS=Calle 8 sur # 31 A- 31 \, B
 ogota\, Colombia;X-APPLE-RADIUS=100;X-TITLE=CRAC:geo:4.5989774,-74.1077652
 9999998
END:VEVENT
BEGIN:VTIMEZONE
TZID:Europe/Amsterdam
X-LIC-LOCATION:Europe/Amsterdam
BEGIN:STANDARD
DTSTART:20181028T020000
TZOFFSETFROM:+0200
TZOFFSETTO:+0100
TZNAME:CET
END:STANDARD
END:VTIMEZONE
END:VCALENDAR