BEGIN:VCALENDAR
VERSION:2.0
PRODID:-//wp-events-plugin.com//7.2.3.1//EN
TZID:Europe/Amsterdam
X-WR-TIMEZONE:Europe/Amsterdam
BEGIN:VEVENT
UID:1645@worldglaucomaweek.org
DTSTART;TZID=Europe/Amsterdam:20180314T000000
DTEND;TZID=Europe/Amsterdam:20180314T013000
DTSTAMP:20180213T133653Z
URL:https://www.worldglaucomaweek.org/activity/conference-understanding-gl
 aucoma-conferencia-entendiendo-el-glaucoma/
SUMMARY:Conference “Understanding Glaucoma” / Conferencia “Entendiend
 o el Glaucoma” en el Hospital Clínico San Carlos
DESCRIPTION:[en español más abajo]\n\nOn Wednesday March 14\, at 12 a.m.\
 , in the Schüller Lecture Room at San Carlos Clinical Hospital\, and with
 in the framework of the World Glaucoma Week 2018\, members of the Glaucoma
  Unit of the Ophthalmology Department\, directed by Prof. Julián García 
 Feijóo\, will discuss “Understanding Glaucoma”. The conference is ope
 n to the general public and aimed at increasing the knowledge and comprehe
 nsion of this complex pathology while offering informal discussions during
  a 90-minute activity.\n\nEl miércoles 14 de marzo\, a las 12 horas\, en 
 el aula Schüller del Hospital Clínico San Carlos de Madrid\, y en el m
 arco de la Semana Mundial de Glaucoma 2018\, miembros de la Unidad de Glau
 coma del Servicio de Oftalmología\, dirigido por el Prof. Dr. Julián Gar
 cía Feijóo\, hablarán sobre “Entendiendo el Glaucoma”. La conferenc
 ia está dirigida al público general y tiene como objetivo aumentar el co
 nocimiento y la comprensión de esta patología compleja\, brindando una s
 erie de discusiones informales durante los 90 minutos que durará la activ
 idad.
ATTACH;FMTTYPE=image/jpeg:https://www.worldglaucomaweek.org/wp-content/upl
 oads/2018/02/WGW2018-Poster-Madrid-small.png
CATEGORIES:Public educational
LOCATION:Hospital Clínico San Carlos\, Profesor Martin Lagos. Aula Schüll
 er (Puerta G\, planta 1 norte)\, Madrid\, Spain\, 28040\, Spain\, Spain
GEO:40.43983619999999;-3.718969300000026
X-APPLE-STRUCTURED-LOCATION;VALUE=URI;X-ADDRESS=Profesor Martin Lagos. Aula
  Schüller (Puerta G\, planta 1 norte)\, Madrid\, Spain\, 28040\, Spain\, 
 Spain;X-APPLE-RADIUS=100;X-TITLE=Hospital Clínico San Carlos:geo:40.43983
 619999999,-3.718969300000026
END:VEVENT
BEGIN:VTIMEZONE
TZID:Europe/Amsterdam
X-LIC-LOCATION:Europe/Amsterdam
BEGIN:STANDARD
DTSTART:20171029T020000
TZOFFSETFROM:+0200
TZOFFSETTO:+0100
TZNAME:CET
END:STANDARD
END:VTIMEZONE
END:VCALENDAR