BEGIN:VCALENDAR
VERSION:2.0
PRODID:-//wp-events-plugin.com//7.2.3.1//EN
TZID:Europe/Amsterdam
X-WR-TIMEZONE:Europe/Amsterdam
BEGIN:VEVENT
UID:2572@worldglaucomaweek.org
DTSTART;TZID=Europe/Amsterdam:20190215T173000
DTEND;TZID=Europe/Amsterdam:20190215T193000
DTSTAMP:20190228T165641Z
URL:https://www.worldglaucomaweek.org/activity/cme-on-glaucoma/
SUMMARY:CME on Glaucoma
DESCRIPTION:
CATEGORIES:Awareness
LOCATION:Kira  Hospital\, Kira Hospital\, BUJUMBURA\, BURUNDI\, 2010\, buju
 mbura\, Burundi
GEO:-3.3997925;29.359666100000027
X-APPLE-STRUCTURED-LOCATION;VALUE=URI;X-ADDRESS=Kira Hospital\, BUJUMBURA\,
  BURUNDI\, 2010\, bujumbura\, Burundi;X-APPLE-RADIUS=100;X-TITLE=Kira  Hos
 pital:geo:-3.3997925,29.359666100000027
END:VEVENT
BEGIN:VTIMEZONE
TZID:Europe/Amsterdam
X-LIC-LOCATION:Europe/Amsterdam
BEGIN:STANDARD
DTSTART:20181028T020000
TZOFFSETFROM:+0200
TZOFFSETTO:+0100
TZNAME:CET
END:STANDARD
END:VTIMEZONE
END:VCALENDAR