BEGIN:VCALENDAR
VERSION:2.0
PRODID:-//wp-events-plugin.com//7.2.3.1//EN
TZID:Europe/Amsterdam
X-WR-TIMEZONE:Europe/Amsterdam
BEGIN:VEVENT
UID:2229@worldglaucomaweek.org
DTSTART;TZID=Europe/Amsterdam;VALUE=DATE:20180311
DTEND;TZID=Europe/Amsterdam;VALUE=DATE:20180312
DTSTAMP:20180315T135603Z
URL:https://www.worldglaucomaweek.org/activity/cme-in-glaucoma-stop-theft-
 save-sight-left/
SUMMARY:CME in Glaucoma: Stop theft\, save sight left
DESCRIPTION:Eye Opener program sheet 08-03-2018  \n\nRefresher course in Gl
 aucoma for post-graduate students and General Ophthalmologists\n\n3-D show
  of Glaucoma surgery : Trabeculectomy\, Needling\, Glaucoma Drainage Devic
 es - a first of its kind\n\nLaunch of a pubic awareness video by The Hon'b
 le Health Minister of the state of Telangana: 'Stop theft\, save sight lef
 t' - you tube link below\n\nSite_WGW2018_CFS-HOA_Videolaunch_CME_mediacove
 rage1\n\n&nbsp\;\n\n&nbsp\;\n\n&nbsp\;\n\n&nbsp\;\n\n&nbsp\;\n\n&nbsp\;\n\
 n&nbsp\;
CATEGORIES:Public educational
LOCATION:Centre for Sight\, Hyderabad\, India\, Banjara Hills\, Hyderabad\,
  India\, 500089\, India
GEO:17.424917362680063;78.42125801249995
X-APPLE-STRUCTURED-LOCATION;VALUE=URI;X-ADDRESS=Banjara Hills\, Hyderabad\,
  India\, 500089\, India;X-APPLE-RADIUS=100;X-TITLE=Centre for Sight\, Hyde
 rabad\, India:geo:17.424917362680063,78.42125801249995
END:VEVENT
BEGIN:VTIMEZONE
TZID:Europe/Amsterdam
X-LIC-LOCATION:Europe/Amsterdam
BEGIN:STANDARD
DTSTART:20171029T020000
TZOFFSETFROM:+0200
TZOFFSETTO:+0100
TZNAME:CET
END:STANDARD
END:VTIMEZONE
END:VCALENDAR