BEGIN:VCALENDAR
VERSION:2.0
PRODID:-//wp-events-plugin.com//7.2.3.1//EN
TZID:Europe/Amsterdam
X-WR-TIMEZONE:Europe/Amsterdam
BEGIN:VEVENT
UID:1994@worldglaucomaweek.org
DTSTART;TZID=Europe/Amsterdam:20180314T080000
DTEND;TZID=Europe/Amsterdam:20180314T090000
DTSTAMP:20180309T103543Z
URL:https://www.worldglaucomaweek.org/activity/clinical-conference-on-glau
 coma/
SUMMARY:Clinical Conference on Glaucoma
DESCRIPTION:
CATEGORIES:Awareness
LOCATION:Kilimanjaro Christian Medical Centre\, Sokoine Road\, Moshi\, Tanz
 ania
GEO:-3.3206322423832555;37.327644485644555
X-APPLE-STRUCTURED-LOCATION;VALUE=URI;X-ADDRESS=Sokoine Road\, Moshi\, Tanz
 ania;X-APPLE-RADIUS=100;X-TITLE=Kilimanjaro Christian Medical Centre:geo:-
 3.3206322423832555,37.327644485644555
END:VEVENT
BEGIN:VTIMEZONE
TZID:Europe/Amsterdam
X-LIC-LOCATION:Europe/Amsterdam
BEGIN:STANDARD
DTSTART:20171029T020000
TZOFFSETFROM:+0200
TZOFFSETTO:+0100
TZNAME:CET
END:STANDARD
END:VTIMEZONE
END:VCALENDAR