BEGIN:VCALENDAR
VERSION:2.0
PRODID:-//wp-events-plugin.com//7.2.3.1//EN
TZID:Europe/Amsterdam
X-WR-TIMEZONE:Europe/Amsterdam
BEGIN:VEVENT
UID:3023@worldglaucomaweek.org
DTSTART;TZID=Europe/Amsterdam:20190310T093000
DTEND;TZID=Europe/Amsterdam:20190310T120000
DTSTAMP:20190509T232325Z
URL:https://www.worldglaucomaweek.org/activity/citizen-course-and-lecture-
 we-will-rise-above-glaucoma/
SUMMARY:Citizen course and lecture \\\\\\'We will rise above Glaucoma\\\\\\
 '
DESCRIPTION:3rd Citizen course and lecture 'We will rise above Glaucoma'\nC
 hair person\n\nHiroshi Sakai\, MD\n\nSpeakers\n\nYohei Chikaraishi\, MD\n\
 nYoshikuni Arakaki\, MD\n\nHiroshi Sakai\, MD\n\nCooperated with Okinawa P
 refecture Ophthalmologist Society
ATTACH;FMTTYPE=image/jpeg:https://www.worldglaucomaweek.org/wp-content/upl
 oads/2019/05/2019-WGW-Okinawa-Report-.jpg
CATEGORIES:Public educational
LOCATION:Okinawa Prefectural Museum and Art Museum\, Omoromachi 3-1-1\, Nah
 a\, Japan
GEO:26.2273138;127.69384890000003
X-APPLE-STRUCTURED-LOCATION;VALUE=URI;X-ADDRESS=Omoromachi 3-1-1\, Naha\, J
 apan;X-APPLE-RADIUS=100;X-TITLE=Okinawa Prefectural Museum and Art Museum:
 geo:26.2273138,127.69384890000003
END:VEVENT
BEGIN:VTIMEZONE
TZID:Europe/Amsterdam
X-LIC-LOCATION:Europe/Amsterdam
BEGIN:STANDARD
DTSTART:20181028T020000
TZOFFSETFROM:+0200
TZOFFSETTO:+0100
TZNAME:CET
END:STANDARD
END:VTIMEZONE
END:VCALENDAR