BEGIN:VCALENDAR
VERSION:2.0
PRODID:-//wp-events-plugin.com//7.2.3.1//EN
TZID:Europe/Amsterdam
X-WR-TIMEZONE:Europe/Amsterdam
BEGIN:VEVENT
UID:2970@worldglaucomaweek.org
DTSTART;TZID=Europe/Amsterdam:20190310T090000
DTEND;TZID=Europe/Amsterdam:20190310T120000
DTSTAMP:20190318T135309Z
URL:https://www.worldglaucomaweek.org/activity/church-service-to-launch-we
 ek-of-activities/
SUMMARY:Church Service
DESCRIPTION:The 10th year Glaucoma awareness activities are being celebrate
 d in Barbados! Message from the Ministry of Health to open the week formal
 ly\, delivered by Dr. Karen Broome\, Senior Medical Officer of Health\, Mi
 nistry of Health\, Barbados.
ATTACH;FMTTYPE=image/jpeg:https://www.worldglaucomaweek.org/wp-content/upl
 oads/2019/03/James-Street-Methodist-Church.jpg
CATEGORIES:Other
LOCATION:James Street Methodist Church\, James Street\, Bridgetown\, Barbad
 os
GEO:13.0990018;-59.61567960000002
X-APPLE-STRUCTURED-LOCATION;VALUE=URI;X-ADDRESS=James Street\, Bridgetown\,
  Barbados;X-APPLE-RADIUS=100;X-TITLE=James Street Methodist Church:geo:13.
 0990018,-59.61567960000002
END:VEVENT
BEGIN:VTIMEZONE
TZID:Europe/Amsterdam
X-LIC-LOCATION:Europe/Amsterdam
BEGIN:STANDARD
DTSTART:20181028T020000
TZOFFSETFROM:+0200
TZOFFSETTO:+0100
TZNAME:CET
END:STANDARD
END:VTIMEZONE
END:VCALENDAR