BEGIN:VCALENDAR
VERSION:2.0
PRODID:-//wp-events-plugin.com//7.2.3.1//EN
TZID:Europe/Amsterdam
X-WR-TIMEZONE:Europe/Amsterdam
BEGIN:VEVENT
UID:1772@worldglaucomaweek.org
DTSTART;TZID=Europe/Amsterdam:20180311T080000
DTEND;TZID=Europe/Amsterdam:20180311T094500
DTSTAMP:20180227T181002Z
URL:https://www.worldglaucomaweek.org/activity/church-service-2/
SUMMARY:Church Service
DESCRIPTION:Church Service in Barbados to open our week of activities for W
 orld Glaucoma Week 2018!!
CATEGORIES:Awareness
LOCATION:Abundant Life Assembly\, Lower Bank Hall\, St. Michael\, Barbados
GEO:13.1136281;-59.60835639999999
X-APPLE-STRUCTURED-LOCATION;VALUE=URI;X-ADDRESS=Lower Bank Hall\, St. Micha
 el\, Barbados;X-APPLE-RADIUS=100;X-TITLE=Abundant Life Assembly:geo:13.113
 6281,-59.60835639999999
END:VEVENT
BEGIN:VTIMEZONE
TZID:Europe/Amsterdam
X-LIC-LOCATION:Europe/Amsterdam
BEGIN:STANDARD
DTSTART:20171029T020000
TZOFFSETFROM:+0200
TZOFFSETTO:+0100
TZNAME:CET
END:STANDARD
END:VTIMEZONE
END:VCALENDAR