BEGIN:VCALENDAR
VERSION:2.0
PRODID:-//wp-events-plugin.com//7.2.3.1//EN
TZID:Europe/Amsterdam
X-WR-TIMEZONE:Europe/Amsterdam
BEGIN:VEVENT
UID:1632@worldglaucomaweek.org
DTSTART;TZID=Europe/Amsterdam:20180309T080000
DTEND;TZID=Europe/Amsterdam:20180309T090000
DTSTAMP:20180216T155509Z
URL:https://www.worldglaucomaweek.org/activity/chrala-para-pacientes-2/
SUMMARY:Charla para pacientes
DESCRIPTION:Charla para pacientes
ATTACH;FMTTYPE=image/jpeg:https://www.worldglaucomaweek.org/wp-content/upl
 oads/2018/02/Imagen-1-1.png
CATEGORIES:Public educational
LOCATION:Clinica sigma\, Av. 3 Norte. # 35N - 10\, Cali\, Colombia\, Colomb
 ia
GEO:3.472592;-76.52035669999998
X-APPLE-STRUCTURED-LOCATION;VALUE=URI;X-ADDRESS=Av. 3 Norte. # 35N - 10\, C
 ali\, Colombia\, Colombia;X-APPLE-RADIUS=100;X-TITLE=Clinica sigma:geo:3.4
 72592,-76.52035669999998
END:VEVENT
BEGIN:VTIMEZONE
TZID:Europe/Amsterdam
X-LIC-LOCATION:Europe/Amsterdam
BEGIN:STANDARD
DTSTART:20171029T020000
TZOFFSETFROM:+0200
TZOFFSETTO:+0100
TZNAME:CET
END:STANDARD
END:VTIMEZONE
END:VCALENDAR