BEGIN:VCALENDAR
VERSION:2.0
PRODID:-//wp-events-plugin.com//7.2.3.1//EN
TZID:Europe/Amsterdam
X-WR-TIMEZONE:Europe/Amsterdam
BEGIN:VEVENT
UID:1663@worldglaucomaweek.org
DTSTART;TZID=Europe/Amsterdam:20180312T090000
DTEND;TZID=Europe/Amsterdam:20180312T100000
DTSTAMP:20180216T155639Z
URL:https://www.worldglaucomaweek.org/activity/charla-para-pacientes/
SUMMARY:Charla para pacientes
DESCRIPTION:Charla para pacientes
ATTACH;FMTTYPE=image/jpeg:https://www.worldglaucomaweek.org/wp-content/upl
 oads/2018/02/Imagen-1-5.png
CATEGORIES:Public educational
LOCATION:Clinica CES\, Carrera 50 A # 50 C - 2\, Medellin\, Antioquia\, 111
 111\, Colombia
GEO:6.2047099;-75.57991249999998
X-APPLE-STRUCTURED-LOCATION;VALUE=URI;X-ADDRESS=Carrera 50 A # 50 C - 2\, M
 edellin\, Antioquia\, 111111\, Colombia;X-APPLE-RADIUS=100;X-TITLE=Clinica
  CES:geo:6.2047099,-75.57991249999998
END:VEVENT
BEGIN:VTIMEZONE
TZID:Europe/Amsterdam
X-LIC-LOCATION:Europe/Amsterdam
BEGIN:STANDARD
DTSTART:20171029T020000
TZOFFSETFROM:+0200
TZOFFSETTO:+0100
TZNAME:CET
END:STANDARD
END:VTIMEZONE
END:VCALENDAR