BEGIN:VCALENDAR
VERSION:2.0
PRODID:-//wp-events-plugin.com//7.2.3.1//EN
TZID:Europe/Amsterdam
X-WR-TIMEZONE:Europe/Amsterdam
BEGIN:VEVENT
UID:2114@worldglaucomaweek.org
DTSTART;TZID=Europe/Amsterdam:20180315T070000
DTEND;TZID=Europe/Amsterdam:20180315T080000
DTSTAMP:20180312T204054Z
URL:https://www.worldglaucomaweek.org/activity/charla-para-pacientes-8/
SUMMARY:Charla para pacientes
DESCRIPTION:\n\n\nCharla para pacientes\n\n\n
ATTACH;FMTTYPE=image/jpeg:https://www.worldglaucomaweek.org/wp-content/upl
 oads/2018/03/Imagen-1-1.png
CATEGORIES:Public educational
LOCATION:Clinica Oftalmologica San Diego\,  Cra. 43 # 29-35\, Medellin\, Co
 lombia
GEO:6.2290211;-75.5690621
X-APPLE-STRUCTURED-LOCATION;VALUE=URI;X-ADDRESS= Cra. 43 # 29-35\, Medellin
 \, Colombia;X-APPLE-RADIUS=100;X-TITLE=Clinica Oftalmologica San Diego:geo
 :6.2290211,-75.5690621
END:VEVENT
BEGIN:VTIMEZONE
TZID:Europe/Amsterdam
X-LIC-LOCATION:Europe/Amsterdam
BEGIN:STANDARD
DTSTART:20171029T020000
TZOFFSETFROM:+0200
TZOFFSETTO:+0100
TZNAME:CET
END:STANDARD
END:VTIMEZONE
END:VCALENDAR